BEGIN:VCALENDAR
VERSION:2.0
PRODID:-//TotalExpo.ru v1.0//EN
BEGIN:VEVENT
DTSTAMP:20260826T120000
DTSTART:20260826T070000Z
DTEND:20260828T140000Z
SUMMARY:Экологический форум Сибири 2026 (Красноярск, Россия)
DESCRIPTION:Форум станет платформой для обмена опытом, поиска партнеров и продвижения технологий по снижению промышленного воздействия, улучшению природопользования и созданию устойчивой городской среды в Сибири. 
LOCATION:Сибирь, МВДЦ (Россия, Красноярск)
END:VEVENT
END:VCALENDAR