BEGIN:VCALENDAR
VERSION:2.0
PRODID:-//TotalExpo.ru v1.0//EN
BEGIN:VEVENT
DTSTAMP:20260604T120000
DTSTART:20260604T070000Z
DTEND:20260605T140000Z
SUMMARY:ДИРЕКТОР ПО ПЕРСОНАЛУ 2026 (Москва, Россия)
DESCRIPTION:Конференция для специалистов в сфере управления персоналом.
LOCATION:Mercure Москва Павелецкая (Россия, Москва)
END:VEVENT
END:VCALENDAR