BEGIN:VCALENDAR
VERSION:2.0
PRODID:-//TotalExpo.ru v1.0//EN
BEGIN:VEVENT
DTSTAMP:20260604T120000
DTSTART:20260604T070000Z
DTEND:20260605T140000Z
SUMMARY:СИЛЬНЫЙ FMCG-БРЕНД 2026 (Москва, Россия)
DESCRIPTION:Конференция для специалистов в области маркетинга.
LOCATION:Radisson Blu Belorusskaya Hotel (Россия, Москва)
END:VEVENT
END:VCALENDAR