BEGIN:VCALENDAR
VERSION:2.0
PRODID:-//TotalExpo.ru v1.0//EN
BEGIN:VEVENT
DTSTAMP:20260514T120000
DTSTART:20260514T070000Z
DTEND:20260517T140000Z
SUMMARY:Спорт.Спорт.Спорт 2026 (Москва, Россия)
DESCRIPTION:Мероприятие станет платформой, объединяющей государство, бизнес, регионы и граждан вокруг задач по развитию физической культуры и массового спорта. 
LOCATION:ВДНХ (Выставка достижений народного хозяйства) (Россия, Москва)
END:VEVENT
END:VCALENDAR