BEGIN:VCALENDAR
VERSION:2.0
PRODID:-//TotalExpo.ru v1.0//EN
BEGIN:VEVENT
DTSTAMP:20260514T120000
DTSTART:20260514T070000Z
DTEND:20260515T140000Z
SUMMARY:Московский инновационный юридический форум / МИЮФ 2026 (Москва, Россия)
DESCRIPTION:Профессиональная площадка для обмена опытом и поиска инновационных правовых решений на современные вызовы и создания правовой основы технологического лидерства Российской Федерации. Форум объединит представителей органов государственной власти, бизнеса, ученых, молодых специалистов и практикующих юристов. 
LOCATION:Цифровое деловое пространство (ЦДП) (Россия, Москва)
END:VEVENT
END:VCALENDAR