BEGIN:VCALENDAR
VERSION:2.0
PRODID:-//TotalExpo.ru v1.0//EN
BEGIN:VEVENT
DTSTAMP:20260620T120000
DTSTART:20260620T070000Z
DTEND:20260621T140000Z
SUMMARY:OPEN COFFEE FEST 2026 (Санкт-Петербург, Россия)
DESCRIPTION:Большой гастро-фестиваль, на котором встречаются все, кто любит кофе. Обжарщики со всей России, кофейни и пекарни, производители чая и шоколада, керамисты, локальные бренды и увлеченные гости, которые любят пробовать новое.
LOCATION:Севкабель Порт (Россия, Санкт-Петербург)
END:VEVENT
END:VCALENDAR