BEGIN:VCALENDAR
VERSION:2.0
PRODID:-//TotalExpo.ru v1.0//EN
BEGIN:VEVENT
DTSTAMP:20260428T120000
DTSTART:20260428T070000Z
DTEND:20260429T140000Z
SUMMARY:Дни ритейла на Неве 2026 (Санкт-Петербург, Россия)
DESCRIPTION:Профессиональный форум для обсуждения ключевых трендов, актуальных вопросов и вызовов розничной торговли в Северо-Западном федеральном округе. Площадка объединяет бизнес, экспертов и представителей власти для обмена практиками, поиска решений и развития отрасли.
LOCATION:Hilton Saint Petersburg ExpoForum (Россия, Санкт-Петербург)
END:VEVENT
END:VCALENDAR