BEGIN:VCALENDAR
VERSION:2.0
PRODID:-//TotalExpo.ru v1.0//EN
BEGIN:VEVENT
DTSTAMP:20260422T120000
DTSTART:20260422T070000Z
DTEND:20260424T140000Z
SUMMARY:VendingExpo 2026 (Краснодар, Россия)
DESCRIPTION:VendingExpo 2026 — площадка для вендингового бизнеса Юга России. Спецпроект в составе выставок FoodTech Krasnodar и InterFood Krasnodar. <br/> В 2025 году он стал переговорной точкой отрасли: производители, поставщики и сервисные компании презентовали оборудование, ингредиенты и IT-разработки владельцам точек размещения и предпринимателям, которые формируют новую инфраструктуру вендинга.<br/><br/>В 2026 году проект расширяет аудиторию и показывает сценарии использования вендинга в туризме, HoReCa, торговых центрах, офисных пространствах и придорожном сервисе. Участники получают прямой доступ к рынку большого Юга — к бизнесу, который ищет решения для запуска и масштабирования точек.
LOCATION:Экспоград Юг (Россия, Краснодар)
END:VEVENT
END:VCALENDAR