BEGIN:VCALENDAR
VERSION:2.0
PRODID:-//TotalExpo.ru v1.0//EN
BEGIN:VEVENT
DTSTAMP:20260516T120000
DTSTART:20260516T070000Z
DTEND:20260517T140000Z
SUMMARY:GamesDay 2026 (Москва, Россия)
DESCRIPTION:Фестиваль настольных игр, в основе которого - насыщенная программа с интереснейшими активностями, турнирами по увлекательным играм, потрясающими фотозонами и презентациями новинок в мире настолок.
LOCATION:Event Hall Даниловский (Россия, Москва)
END:VEVENT
END:VCALENDAR