BEGIN:VCALENDAR
VERSION:2.0
PRODID:-//TotalExpo.ru v1.0//EN
BEGIN:VEVENT
DTSTAMP:20261210T120000
DTSTART:20261210T070000Z
DTEND:20261212T140000Z
SUMMARY:Регион инноваций Юг 2026 (Краснодар, Россия)
DESCRIPTION:Федеральная площадка для демонстрации передовых решений в промышленности, АПК, умном городе, медицине, цифровой экономике и других ключевых отраслях.
LOCATION:Экспоград Юг (Россия, Краснодар)
END:VEVENT
END:VCALENDAR