BEGIN:VCALENDAR
VERSION:2.0
PRODID:-//TotalExpo.ru v1.0//EN
BEGIN:VEVENT
DTSTAMP:20260424T120000
DTSTART:20260424T070000Z
DTEND:20260424T140000Z
SUMMARY:ЭЛЕКТРО//ДВИЖЕНИЕ 2026 (Москва, Россия)
DESCRIPTION:Профессиональное отраслевое событие, где крупнейшие участники рынка и представители органов власти обсудят практические шаги по развитию электромобильности в России. 
LOCATION:Центр Событий РБК (Россия, Москва)
END:VEVENT
END:VCALENDAR