BEGIN:VCALENDAR
VERSION:2.0
PRODID:-//TotalExpo.ru v1.0//EN
BEGIN:VEVENT
DTSTAMP:20270211T120000
DTSTART:20270211T070000Z
DTEND:20270211T140000Z
SUMMARY:CИЛА ЧЕТЫРЁХ 2027 (Москва, Россия)
DESCRIPTION:Значимое для рынка событие, на котором представители государства, банков, бизнеса и экспертов соберутся вместе, чтобы обсудить будущее отрасли недвижимости. Именно сейчас объединение этих четырёх сил становится точкой «сборки» для формирования новых тенденций и возможностей.
LOCATION:Hyatt Regency Moscow Petrovsky Park (Россия, Москва)
END:VEVENT
END:VCALENDAR