BEGIN:VCALENDAR
VERSION:2.0
PRODID:-//TotalExpo.ru v1.0//EN
BEGIN:VEVENT
DTSTAMP:20260624T120000
DTSTART:20260624T070000Z
DTEND:20260625T140000Z
SUMMARY:Теплоэнергетика Центральная Азия 2026 (Астана, Казахстан)
DESCRIPTION:Международный Форум и выставка «Теплоэнергетика Центральная Азия» - уникальная профессиональная международная площадка для лидеров энергетической отрасли Узбекистана, Казахстана, Киргизии, Таджикистана и других стран с участием руководителей крупнейших инвестиционных проектов, ключевых генерирующих предприятий региона, регуляторных органов, инвесторов, передовых компаний по производству оборудования, лицензиаров технологий, инжиниринговых и проектно-строительных предприятий. 
LOCATION:Hilton Astana (Казахстан, Астана)
END:VEVENT
END:VCALENDAR