BEGIN:VCALENDAR
VERSION:2.0
PRODID:-//TotalExpo.ru v1.0//EN
BEGIN:VEVENT
DTSTAMP:20261113T120000
DTSTART:20261113T070000Z
DTEND:20261115T140000Z
SUMMARY:Московское Автошоу 2026 (Москва, Россия)
DESCRIPTION:Масштабное мероприятие, которое объединит ведущих производителей, импортёров и ценителей автомобилей. Выставка станет площадкой для презентации новинок российского авторынка — не только отечественных, но и зарубежных. По духу мероприятие напомнит автосалоны конца 1990-х — с живыми презентациями и атмосферой настоящего автомобильного праздника. Его участниками станут отечественные и зарубежные производители, тюнинг-ателье, коллекционеры ретротехники и дилерские центры со всей России. В рамках деловой программы Московского Автошоу пройдут лекции и круглые столы. 
LOCATION:Патриот, КВЦ (Россия, Москва)
END:VEVENT
END:VCALENDAR