BEGIN:VCALENDAR
VERSION:2.0
PRODID:-//TotalExpo.ru v1.0//EN
BEGIN:VEVENT
DTSTAMP:20260312T120000
DTSTART:20260312T070000Z
DTEND:20260313T140000Z
SUMMARY:ПОЖАРНАЯ БЕЗОПАСНОСТЬ 2026 (Москва, Россия)
DESCRIPTION:Специализированная выставка противопожарного оборудования и технологий для топливно-энергетического комплекса, представляет современные противопожарные технологии, пожарной безопасности и охраны объектов, а также технологии ликвидации ЧС на объектах энергетической и нефтегазовой инфраструктуры. 
LOCATION:ВДНХ (Выставка достижений народного хозяйства) (Россия, Москва)
END:VEVENT
END:VCALENDAR