BEGIN:VCALENDAR
VERSION:2.0
PRODID:-//TotalExpo.ru v1.0//EN
BEGIN:VEVENT
DTSTAMP:20260701T120000
DTSTART:20260701T070000Z
DTEND:20260731T140000Z
SUMMARY:ПИЩЕВКА3D: ДРИНКОНФ 2026 (Москва, Россия)
DESCRIPTION:Отраслевая бизнес-конференция для индустрии безалкогольных напитков и пива. На площадке соберутся производители безалкогольных напитков (вода, соки, БТН, чай, кофе и т.д.) и пива, поставщики оборудования, упаковки, ингредиентов и услуг, аналитики и объединения. Участников ждет стратегический обзор рынка и свежий взгляд на отрасль, обмен опытом и жаркие дискуссии, нетворкинг и личные встречи, возможность выстроить необходимые горизонтальные связи.
LOCATION:площадка уточняется (Россия, Москва)
END:VEVENT
END:VCALENDAR