BEGIN:VCALENDAR
VERSION:2.0
PRODID:-//TotalExpo.ru v1.0//EN
BEGIN:VEVENT
DTSTAMP:20260924T120000
DTSTART:20260924T070000Z
DTEND:20260927T140000Z
SUMMARY:Арт Россия Классика 2026 (Москва, Россия)
DESCRIPTION:Ярмарка объединит лучших представителей академической школы, откроет новые грани академического искусства и даст новые возможности авторам для карьерного и профессионального роста. 
LOCATION:Гостиный Двор (Россия, Москва)
END:VEVENT
END:VCALENDAR