BEGIN:VCALENDAR
VERSION:2.0
PRODID:-//TotalExpo.ru v1.0//EN
BEGIN:VEVENT
DTSTAMP:20261016T120000
DTSTART:20261016T070000Z
DTEND:20261016T140000Z
SUMMARY:Строим Будущее. Сибирь 2026 (Новосибирск, Россия)
DESCRIPTION:Форум для профессионалов рынка недвижимости в Сибири и на Дальнем Востоке. Риелторы, застройщики, девелоперы и собственники риелторских компаний из разных регионов Сибири — ключевые игроки рынка собираются на одной площадке для обмена опытом и знакомства с новыми возможностями.
LOCATION:Новосибирск Экспоцентр (Россия, Новосибирск)
END:VEVENT
END:VCALENDAR