BEGIN:VCALENDAR
VERSION:2.0
PRODID:-//TotalExpo.ru v1.0//EN
BEGIN:VEVENT
DTSTAMP:20261029T120000
DTSTART:20261029T070000Z
DTEND:20261029T140000Z
SUMMARY:Форум лидеров страхового рынка 2026 (Москва, Россия)
DESCRIPTION:Дискуссионная площадка руководителей страховых компаний, собирающих 90% всей премии в стране, главных страховых регуляторов и всех тех, кто формирует будущее страхования в РФ. Это лучший способ понять и даже задать векторы развития страхового рынка. 
LOCATION:Центр Событий РБК (Россия, Москва)
END:VEVENT
END:VCALENDAR