BEGIN:VCALENDAR
VERSION:2.0
PRODID:-//TotalExpo.ru v1.0//EN
BEGIN:VEVENT
DTSTAMP:20261007T120000
DTSTART:20261007T070000Z
DTEND:20261009T140000Z
SUMMARY:САНКУР-эволюция 2026 (Екатеринбург, Россия)
DESCRIPTION:Форум для инноваторов курортной отрасли, сферы оздоровления и гостеприимства. Гостей мероприятия ждут 8 потоков тематических направлений — лечение, управление, проживание, питание, продвижение, развлечение, ландшафт, IT-решения. Также в рамках форума будут организованы экспертные доклады, специализированные конференции, мастер-классы по современным трендам в сфере гостеприимства, круглые столы, тренинги, панельные дискуссии, более 70 экспонентов на выставке продукции, оборудования.
LOCATION:ЦМТЕ (Центр Международной Торговли Екатеринбург) (Россия, Екатеринбург)
END:VEVENT
END:VCALENDAR