BEGIN:VCALENDAR
VERSION:2.0
PRODID:-//TotalExpo.ru v1.0//EN
BEGIN:VEVENT
DTSTAMP:20260908T120000
DTSTART:20260908T070000Z
DTEND:20260910T140000Z
SUMMARY:Черноморский Ветеринарный Бизнес-Форум 2026 (Сочи, Россия)
DESCRIPTION:Профессиональная площадка для владельцев и руководителей ветеринарных клиник, где эксперты отрасли делятся передовым опытом и инновационными решениями в сфере ветеринарного предпринимательства. В центре внимания — актуальные вопросы развития бизнеса, эффективного управления и повышения конкурентоспособности ветеринарных учреждений.<br/>Программа мероприятия включает мастер-классы от признанных экспертов, презентации инновационных бизнес-технологий и круглые столы по ключевым вопросам отрасли. Участники получают возможность не только обогатиться новыми знаниями, но и установить ценные деловые контакты.
LOCATION:Красная Поляна 960 (Россия, Сочи)
END:VEVENT
END:VCALENDAR