BEGIN:VCALENDAR
VERSION:2.0
PRODID:-//TotalExpo.ru v1.0//EN
BEGIN:VEVENT
DTSTAMP:20260819T120000
DTSTART:20260819T070000Z
DTEND:20260821T140000Z
SUMMARY:Выставка АППМ для профессионалов зелёной отрасли 2026 (Москва, Россия)
DESCRIPTION:Выставка представит весь спектр продукции российских питомников, производителей субстратов, технологической тары, пестицидов и профессиональной техники. Экспозицию дополнит деловая программа, направленная на развитие и поддержку зеленых насаждений. Посетителей ждут лекции и мастер-классы.
LOCATION:ПОИСК, агрофирма (Россия, Москва)
END:VEVENT
END:VCALENDAR