BEGIN:VCALENDAR
VERSION:2.0
PRODID:-//TotalExpo.ru v1.0//EN
BEGIN:VEVENT
DTSTAMP:20260808T120000
DTSTART:20260808T070000Z
DTEND:20260809T140000Z
SUMMARY:Ориентиры детства 2026 (Москва, Россия)
DESCRIPTION:Всероссийский форум работников дошкольного образования, направленный на создание условий для воспитания активного, креативно мыслящего, интеллектуально богатого поколения с устойчивой гражданской позицией, воспитанного на основе традиционных духовно-нравственных ценностей.<br/>Мероприятие объединит специалистов дошкольного образования из всех 89 регионов Российской Федерации, родительскую общественность, представителей органов власти и управления образованием, ученых, преподавателей и студентов профильных вузов и колледжей, производителей товаров для дошкольного детства и оборудования для оснащения детских садов, издателей, писателей и библиотекарей, социально ответственные СМИ. 
LOCATION:Ломоносов, ИНТЦ (Россия, Москва)
END:VEVENT
END:VCALENDAR