BEGIN:VCALENDAR
VERSION:2.0
PRODID:-//TotalExpo.ru v1.0//EN
BEGIN:VEVENT
DTSTAMP:20261014T120000
DTSTART:20261014T070000Z
DTEND:20261016T140000Z
SUMMARY:Auto Expo 2026 (Алма-Ата, Казахстан)
DESCRIPTION:Международная выставка автозапчастей, комплектующих, аксессуаров и оборудования для легковых и грузовых машин и спецтехники.
LOCATION:Атакент, КЦДС (Казахстан, Алма-Ата)
END:VEVENT
END:VCALENDAR