BEGIN:VCALENDAR
VERSION:2.0
PRODID:-//TotalExpo.ru v1.0//EN
BEGIN:VEVENT
DTSTAMP:20270210T120000
DTSTART:20270210T070000Z
DTEND:20270211T140000Z
SUMMARY:ДРОНТЕХ 2027 (Москва, Россия)
DESCRIPTION:Деловая площадка для производителей и разработчиков беспилотных систем, роботизированных и автономных решений. Проходит одновременно с выставкой инфраструктуры гражданской авиации НАИС.
LOCATION:МВЦ Крокус Экспо (Россия, Москва)
END:VEVENT
END:VCALENDAR