BEGIN:VCALENDAR
VERSION:2.0
PRODID:-//TotalExpo.ru v1.0//EN
BEGIN:VEVENT
DTSTAMP:20260725T120000
DTSTART:20260725T070000Z
DTEND:20260726T140000Z
SUMMARY:Уральский кофейный фестиваль 2026 (Екатеринбург, Россия)
DESCRIPTION:Ежегодный фестиваль в Екатеринбурге, который собирает жителей города, а также любителей кофе и представителей кофейной индустрии со всей России.
LOCATION:Уральский центр развития дизайна (Россия, Екатеринбург)
END:VEVENT
END:VCALENDAR