BEGIN:VCALENDAR
VERSION:2.0
PRODID:-//TotalExpo.ru v1.0//EN
BEGIN:VEVENT
DTSTAMP:20260609T120000
DTSTART:20260609T070000Z
DTEND:20260611T140000Z
SUMMARY:CTEF 2026 (Шанхай, Китай)
DESCRIPTION:Китайская международная выставка химического оборудования. На выставочной площади 70 000 кв.м. CTEF представит 1000+ экспонентов из 20+ стран и регионов и 100+ экспертов-докладчиков.
LOCATION:Shanghai New International Expo Centre (Китай, Шанхай)
END:VEVENT
END:VCALENDAR