BEGIN:VCALENDAR
VERSION:2.0
PRODID:-//TotalExpo.ru v1.0//EN
BEGIN:VEVENT
DTSTAMP:20250701T120000
DTSTART:20250701T070000Z
DTEND:20250702T140000Z
SUMMARY:Информационные технологии в машиностроении / ИТМаш 2025 (Москва, Россия)
DESCRIPTION:Тематическая направленность конференции – цифровая трансформация и инновационное развитие отечественного машиностроения в целях обеспечения технологической независимости, конкурентоспособности и цифрового взаимодействия предприятий на основе единых стандартов и формирования цифровой экосистемы машиностроения и смежных отраслей.
LOCATION:Soluxe Hotel Moscow (Россия, Москва)
END:VEVENT
END:VCALENDAR