BEGIN:VCALENDAR
VERSION:2.0
PRODID:-//TotalExpo.ru v1.0//EN
BEGIN:VEVENT
DTSTAMP:20260422T120000
DTSTART:20260422T070000Z
DTEND:20260423T140000Z
SUMMARY:ИИПром 2026 (Москва, Россия)
DESCRIPTION:Межотраслевая конференция «Искусственный интеллект в промышленности». В центре внимания - практические аспекты применения инструментов ИИ в бизнес-процессах, характерных для промышленных предприятий: проектирование и конструирование, управление производственными процессами, планирование производственных показателей, техническое обслуживание, ремонты и т. д. Участники обсудят основные тенденции применения искусственного интеллекта в промышленности России, вопросы регулирования этого сегмента и особенности обеспечения информационной безопасности ИИ.
LOCATION:Президент-Отель, ГК (Россия, Москва)
END:VEVENT
END:VCALENDAR