BEGIN:VCALENDAR
VERSION:2.0
PRODID:-//TotalExpo.ru v1.0//EN
BEGIN:VEVENT
DTSTAMP:20260423T120000
DTSTART:20260423T070000Z
DTEND:20260423T140000Z
SUMMARY:LANGAME Conference 2026 (Москва, Россия)
DESCRIPTION:Ежегодная международная оффлайн-встреча участников рынка компьютерных клубов и киберарен. На конференции соберутся владельцы компьютерных клубов, представители брендов, поставщики, маркетологи и энтузиасты индустрии. Участников ждет актуальная отраслевая экспертиза в формате лекций и панельных сессий.<br/>В выставочной зоне будут представлены современные решения для клубов, стенды партнёров и интерактивные развлечения.
LOCATION:Вега Измайлово Отель и Конгресс-центр (Россия, Москва)
END:VEVENT
END:VCALENDAR