BEGIN:VCALENDAR
VERSION:2.0
PRODID:-//TotalExpo.ru v1.0//EN
BEGIN:VEVENT
DTSTAMP:20270403T120000
DTSTART:20270403T070000Z
DTEND:20270404T140000Z
SUMMARY:ЗООФЕСТ 2027 (Москва, Россия)
DESCRIPTION:Фестиваль любви к домашним животным, объединяющий на одной площадке самых разных питомцев.
LOCATION:МВЦ Крокус Экспо (Россия, Москва)
END:VEVENT
END:VCALENDAR