BEGIN:VCALENDAR
VERSION:2.0
PRODID:-//TotalExpo.ru v1.0//EN
BEGIN:VEVENT
DTSTAMP:20260908T120000
DTSTART:20260908T070000Z
DTEND:20260910T140000Z
SUMMARY:Здравоохранение Юга 2026 (Краснодар, Россия)
DESCRIPTION:Специализированная выставка-форум современного медицинского оборудования, инструментария, расходных материалов, фармацевтических препаратов, научных разработок, а также технологий цифровизации и подготовки кадров для системы здравоохранения.<br/>Выставка-форум включена в официальный план мероприятий Минпромторга РФ, проходит под патронажем Торгово-промышленной палаты РФ.
LOCATION:Экспоград Юг (Россия, Краснодар)
END:VEVENT
END:VCALENDAR