BEGIN:VCALENDAR
VERSION:2.0
PRODID:-//TotalExpo.ru v1.0//EN
BEGIN:VEVENT
DTSTAMP:20251113T120000
DTSTART:20251113T070000Z
DTEND:20251113T140000Z
SUMMARY:Цифропром 2025 (Москва, Россия)
DESCRIPTION:Экспертная площадка для обсуждения и обмена опытом по ключевым вопросам и актуальным проблемам цифровизации (применения современных инструментов и технологий для оптимизации производственных процессов) в условиях технологического суверенитета, о практике внедрения промышленными компаниями импортонезависимых ИТ-систем и средств автоматизации; знакомство с инновационными разработками, решениями, продуктами отечественных разработчиков и производителей ИТ-решений, программного обеспечения и пр.<br/>В рамках форума пройдет выставка «Прикоснись к цифровизации», на которой будут представлены инновационные разработки, решения, продукты отечественных разработчиков ИТ-решений, программного обеспечения и пр. 
LOCATION:Hotel Continental  (Россия, Москва)
END:VEVENT
END:VCALENDAR