BEGIN:VCALENDAR
VERSION:2.0
PRODID:-//TotalExpo.ru v1.0//EN
BEGIN:VEVENT
DTSTAMP:20260227T120000
DTSTART:20260227T070000Z
DTEND:20260227T140000Z
SUMMARY:Корпорации в цифре 2026 (Москва, Россия)
DESCRIPTION:Площадка для обсуждения и обмена опытом по ключевым вопросам и актуальным проблемам развития кэптивных ИТ-компаний в ведущих отраслях РФ. Это уникальное событие, где ведущие эксперты обменяются знаниями и идеями, направленными на преодоление вызовов в современном цифровом мире.
LOCATION:Hotel Continental  (Россия, Москва)
END:VEVENT
END:VCALENDAR