BEGIN:VCALENDAR
VERSION:2.0
PRODID:-//TotalExpo.ru v1.0//EN
BEGIN:VEVENT
DTSTAMP:20260818T120000
DTSTART:20260818T070000Z
DTEND:20260821T140000Z
SUMMARY:AutoBusExpo 2026 (Москва, Россия)
DESCRIPTION:Международный автобусный салон — ведущая выставка в России, посвященная автобусам, электрическому колёсному транспорту и сопутствующим технологиям. Это место, где производители, поставщики и покупатели могут встретиться, обсудить новейшие разработки и заключить выгодные сделки.
LOCATION:МВЦ Крокус Экспо (Россия, Москва)
END:VEVENT
END:VCALENDAR