BEGIN:VCALENDAR
VERSION:2.0
PRODID:-//TotalExpo.ru v1.0//EN
BEGIN:VEVENT
DTSTAMP:20270218T120000
DTSTART:20270218T070000Z
DTEND:20270219T140000Z
SUMMARY:Инновационная школа эстетической медицины 2027 (Москва, Россия)
DESCRIPTION:Мероприятие объединит признанных экспертов в области эстетической медицины для того, чтобы осветить главные инновации 2026 года. Программа по пластической хирургии будет посвящена жировой ткани и всецело охватит все аспекты применения продуктов на основе липоаспирата. Сессия по косметологии традиционно будет посвящена главным инновациям в области врачебной косметологии, осложнениям и подробным разборам клинических случаев в практике врача-косметолога.
LOCATION:Radisson Collection Hotel, Moscow (Россия, Москва)
END:VEVENT
END:VCALENDAR