BEGIN:VCALENDAR
VERSION:2.0
PRODID:-//TotalExpo.ru v1.0//EN
BEGIN:VEVENT
DTSTAMP:20260818T120000
DTSTART:20260818T070000Z
DTEND:20260821T140000Z
SUMMARY:ComAutoTrans 2026 (Москва, Россия)
DESCRIPTION:Выставка и тест-драйв коммерческого транспорта. Уникальная B2B-площадка в России для демонстрации коммерческого транспорта для исключительной по своему охвату аудитории в 30 000+ покупателей и специалистов, cовместившая форматы статичной экспозиции внутри павильонов и динамичного тест-драйва на уличной площадке.
LOCATION:МВЦ Крокус Экспо (Россия, Москва)
END:VEVENT
END:VCALENDAR