BEGIN:VCALENDAR
VERSION:2.0
PRODID:-//TotalExpo.ru v1.0//EN
BEGIN:VEVENT
DTSTAMP:20260818T120000
DTSTART:20260818T070000Z
DTEND:20260821T140000Z
SUMMARY:InterAutoMechanica 2026 (Москва, Россия)
DESCRIPTION:InterAutoMechanica — новое прочтение B2B-выставки «Интеравто». Она объединит на одной площадке ведущих игроков и специалистов сферы автоаксессуаров, тюнинга, кузовного ремонта, моек, гаражного оборудования и инструмента, производителей и дистрибьютеров запчастей, автокомпонентов, оборудования и товаров для технического обслуживания автомобилей.
LOCATION:МВЦ Крокус Экспо (Россия, Москва)
END:VEVENT
END:VCALENDAR