BEGIN:VCALENDAR
VERSION:2.0
PRODID:-//TotalExpo.ru v1.0//EN
BEGIN:VEVENT
DTSTAMP:20260423T120000
DTSTART:20260423T070000Z
DTEND:20260426T140000Z
SUMMARY:Нити 2026 (Нижний Новгород, Россия)
DESCRIPTION:Фестиваль женских увлечений «Нити» — это пространство, объединяющее женщин с
разнообразными интересами в сфере моды, легкой промышленности, рукоделия,
саморазвития, духовного и телесного здоровья, воспитания детей и предпринимательства.
Мероприятие предоставляет платформу для самовыражения, обучения и обмена опытом,
подчеркивая важность женских увлечений и создание социальных связей.
LOCATION:Совкомбанк Арена (Россия, Нижний Новгород)
END:VEVENT
END:VCALENDAR