BEGIN:VCALENDAR
VERSION:2.0
PRODID:-//TotalExpo.ru v1.0//EN
BEGIN:VEVENT
DTSTAMP:20261008T120000
DTSTART:20261008T070000Z
DTEND:20261009T140000Z
SUMMARY:Море технологий для ресторана и отеля 2026 (Москва, Россия)
DESCRIPTION:Масштабная ежегодная конференция, которая знакомит профессионалов ресторанного и гостиничного дела с IT-технологиями в сфере НоReCa. Объединяет ведущих рестораторов и отельеров с разработчиками на одной площадке: знакомит с инновациями и удобными сервисами, которые позволяют автоматизировать процессы и увеличить прибыль.
LOCATION:площадка уточняется (Россия, Москва)
END:VEVENT
END:VCALENDAR