BEGIN:VCALENDAR
VERSION:2.0
PRODID:-//TotalExpo.ru v1.0//EN
BEGIN:VEVENT
DTSTAMP:20250726T120000
DTSTART:20250726T070000Z
DTEND:20250727T140000Z
SUMMARY:На Рахате 2025 (Уфа, Россия)
DESCRIPTION:Мероприятие посвящено культуре банного отдыха. Гостей фестиваля ждет насыщенная деловая программа, которая будет включать в себя профильные секции и дискуссионную площадку при участии лидеров страны в области медицины, туристического развития и банной индустрии. На повестке – ключевые аспекты развития международного туризма в регионе, актуальные вопросы, касающиеся сферы медицинского туризма, а также расширение партнерского взаимодействия регионов России и зарубежья.
LOCATION:Кашкадан, ПКиО (Россия, Уфа)
END:VEVENT
END:VCALENDAR