BEGIN:VCALENDAR
VERSION:2.0
PRODID:-//TotalExpo.ru v1.0//EN
BEGIN:VEVENT
DTSTAMP:20260929T120000
DTSTART:20260929T070000Z
DTEND:20260930T140000Z
SUMMARY:Инвестиции в развитие здоровой страны. Цифры. Факты. Возможности 2026 (Москва, Россия)
DESCRIPTION:Форум традиционно соберет ключевых участников рынка оздоровительного туризма страны – собственников и топ-менеджеров санаториев, спа и wellness-отелей, руководителей клиник превентивной медицины, представителей профильных министерств и ведомств, экспертного сообщества, СМИ.
LOCATION:площадка уточняется (Россия, Москва)
END:VEVENT
END:VCALENDAR