BEGIN:VCALENDAR
VERSION:2.0
PRODID:-//TotalExpo.ru v1.0//EN
BEGIN:VEVENT
DTSTAMP:20260723T120000
DTSTART:20260723T070000Z
DTEND:20260724T140000Z
SUMMARY:DАЧА 2026 (Новосибирск, Россия)
DESCRIPTION:Мероприятие для собственников, управляющих, маркетологов, банкетных менеджеров и тех, кто всей душой любит свой ресторан. У вас будет возможность быть на выступлениях практиков, познакомиться с другими рестораторами в неформальной обстановке, обсудить коллаборации, услышать экспертное мнение предпринимателей.
LOCATION:Чкаловские дачи, экопарк (Россия, Новосибирск)
END:VEVENT
END:VCALENDAR