BEGIN:VCALENDAR
VERSION:2.0
PRODID:-//TotalExpo.ru v1.0//EN
BEGIN:VEVENT
DTSTAMP:20260610T120000
DTSTART:20260610T070000Z
DTEND:20260611T140000Z
SUMMARY:Категорийный менеджмент в Белые Ночи 2026 (Санкт-Петербург, Россия)
DESCRIPTION:Профессиональная конференция для ритейлеров. Мероприятие посещают профессионалы, которые знают и применяют принципы категорийного менеджмента в бизнесе.<br/>От специалистов, которые стремятся найти новые практики и решения в своей работе, до директоров по персоналу, которым нужно оценить работу и результат топ-менеджеров компаний.<br/>От категорийных менеджеров, которым важно знать все о рынке и потребителях и опережать конкурентов, до коммерческих директоров, которые составляют портфель проектов по дальнейшему развитию бизнеса.<br/>От топ-менеджеров до генеральных директоров, которые заинтересованы в выстраивании системной работы бизнеса по категориям и принципам категорийного менеджмента, чтобы компания оставалась конкурентоспособной и эффективной.
LOCATION:Solo Sokos Hotel Palace Bridge (Россия, Санкт-Петербург)
END:VEVENT
END:VCALENDAR