BEGIN:VCALENDAR
VERSION:2.0
PRODID:-//TotalExpo.ru v1.0//EN
BEGIN:VEVENT
DTSTAMP:20260430T120000
DTSTART:20260430T070000Z
DTEND:20260430T140000Z
SUMMARY:Business&amp;IT Day: Retail CPG 2026 (Москва, Россия)
DESCRIPTION:Ежегодная онлайн-конференция для обмена опытом по автоматизации бизнес-процессов и использования информационных технологий для предприятий розничной торговли и производителей товаров народного спроса.
LOCATION:Онлайн (Россия, Москва)
END:VEVENT
END:VCALENDAR