BEGIN:VCALENDAR
VERSION:2.0
PRODID:-//TotalExpo.ru v1.0//EN
BEGIN:VEVENT
DTSTAMP:20260624T120000
DTSTART:20260624T070000Z
DTEND:20260626T140000Z
SUMMARY:Telefilm Vietnam 2026 (Хошимин, Вьетнам)
DESCRIPTION:Ведущая специализированная выставка кино- и телетехнологий во Вьетнаме, которая проводится ежегодно. Мероприятие привлекает к участию более 200 компаний, продюсеров и экспертов индустрии кино и телевидения из Вьетнама и зарубежных стран, предоставляя посетителям доступ к новейшим продуктам, услугам и решениям в этой области. Кроме того, Telefilm Vietnam является площадкой для сотрудничества и обмена опытом для кинематографистов, менеджеров, разработчиков контента и экспертов отрасли.
LOCATION:Saigon Exhibition & Convention Center (Вьетнам, Хошимин)
END:VEVENT
END:VCALENDAR