BEGIN:VCALENDAR
VERSION:2.0
PRODID:-//TotalExpo.ru v1.0//EN
BEGIN:VEVENT
DTSTAMP:20250925T120000
DTSTART:20250925T070000Z
DTEND:20250925T140000Z
SUMMARY:Industrial++ 2025 (Москва, Россия)
DESCRIPTION:Прикладная конференция, направленная на обмен опытом в сфере IT и цифры, полученным в процессе решения технических задач и разработки продуктовых решений в промышленности.
LOCATION:Loft Hall #3 (Россия, Москва)
END:VEVENT
END:VCALENDAR