BEGIN:VCALENDAR
VERSION:2.0
PRODID:-//TotalExpo.ru v1.0//EN
BEGIN:VEVENT
DTSTAMP:20260916T120000
DTSTART:20260916T070000Z
DTEND:20260917T140000Z
SUMMARY:Теплоэнергетика России: строительство и модернизация станций 2026 (Москва, Россия)
DESCRIPTION:Профессиональная международная площадка для ведущих предприятий энергетической отрасли России, с участием руководителей крупнейших инвестиционных проектов, ключевых генерирующих предприятий региона, регуляторных органов, инвесторов, передовых компаний по производству оборудования, лицензиаров технологий, инжиниринговых и проектно-строительных предприятий. Мероприятие посвящено развитию теплоэнергетики путем реализации крупнейших инвестиционных проектов по строительству и модернизации тепловых электростанций, а также обмену опытом и обсуждению возможностей повышения эффективности действующих производств.
LOCATION:Балчуг Кемпински (Россия, Москва)
END:VEVENT
END:VCALENDAR