BEGIN:VCALENDAR
VERSION:2.0
PRODID:-//TotalExpo.ru v1.0//EN
BEGIN:VEVENT
DTSTAMP:20260722T120000
DTSTART:20260722T070000Z
DTEND:20260724T140000Z
SUMMARY:ПИЩЁВКА3D: ПЕРВАЯ МОЛОЧНАЯ 2026 (Санкт-Петербург, Россия)
DESCRIPTION:Конференция для переработчиков молока.
LOCATION:CORT INN St-Petersburg Hotel & Conference center (Россия, Санкт-Петербург)
END:VEVENT
END:VCALENDAR