BEGIN:VCALENDAR
VERSION:2.0
PRODID:-//TotalExpo.ru v1.0//EN
BEGIN:VEVENT
DTSTAMP:20260608T120000
DTSTART:20260608T070000Z
DTEND:20260610T140000Z
SUMMARY:ДНИ РАДИО 2026 (Сочи, Россия)
DESCRIPTION:Экспозиция в рамках конференции «Локальное радио: инновации и перспективы». Выставка познакомит посетителей с новыми отечественными технологиями, предоставит платформу для эффективного обмена опытом и даст возможность презентовать инновационные идеи и стартапы, а также найти для них финансирование.
LOCATION:Отель Pullman Сочи Центр (Россия, Сочи)
END:VEVENT
END:VCALENDAR